BEGIN:VCALENDAR
VERSION:2.0
PRODID:-//Vermont Health Careers - ECPv6.15.20//NONSGML v1.0//EN
CALSCALE:GREGORIAN
METHOD:PUBLISH
X-WR-CALNAME:Vermont Health Careers
X-ORIGINAL-URL:https://vthealthcareers.org
X-WR-CALDESC:Events for Vermont Health Careers
REFRESH-INTERVAL;VALUE=DURATION:PT1H
X-Robots-Tag:noindex
X-PUBLISHED-TTL:PT1H
BEGIN:VTIMEZONE
TZID:America/Halifax
BEGIN:DAYLIGHT
TZOFFSETFROM:-0400
TZOFFSETTO:-0300
TZNAME:ADT
DTSTART:20210314T060000
END:DAYLIGHT
BEGIN:STANDARD
TZOFFSETFROM:-0300
TZOFFSETTO:-0400
TZNAME:AST
DTSTART:20211107T050000
END:STANDARD
BEGIN:DAYLIGHT
TZOFFSETFROM:-0400
TZOFFSETTO:-0300
TZNAME:ADT
DTSTART:20220313T060000
END:DAYLIGHT
BEGIN:STANDARD
TZOFFSETFROM:-0300
TZOFFSETTO:-0400
TZNAME:AST
DTSTART:20221106T050000
END:STANDARD
BEGIN:DAYLIGHT
TZOFFSETFROM:-0400
TZOFFSETTO:-0300
TZNAME:ADT
DTSTART:20230312T060000
END:DAYLIGHT
BEGIN:STANDARD
TZOFFSETFROM:-0300
TZOFFSETTO:-0400
TZNAME:AST
DTSTART:20231105T050000
END:STANDARD
END:VTIMEZONE
BEGIN:VEVENT
DTSTART;TZID=America/Halifax:20221101T180000
DTEND;TZID=America/Halifax:20221101T190000
DTSTAMP:20260419T093310
CREATED:20221020T120441Z
LAST-MODIFIED:20221020T120441Z
UID:2920-1667325600-1667329200@vthealthcareers.org
SUMMARY:Financial Aid & Managing College Costs: Harwood Union High School
DESCRIPTION:Attention high school juniors & sophomores and families:\nJoin VSAC Aspirations School Specialist\, Ellen Bagnato\, for a free Financial Aid & Managing College Costs presentation. At this presentation\, we will provide an overview of how families pay for college costs and the different types of financial aid\, as well as the application process and timelines. We will also share with you several websites that can help you research the true cost of colleges and get ready to file financial aid forms.
URL:https://vthealthcareers.org/event/financial-aid-managing-college-costs-harwood-union-high-school/
ATTACH;FMTTYPE=image/gif:https://vthealthcareers.org/wp-content/uploads/2022/10/FinAid_MngngCC.gif
END:VEVENT
END:VCALENDAR