BEGIN:VCALENDAR
VERSION:2.0
PRODID:-//Vermont Health Careers - ECPv6.15.20//NONSGML v1.0//EN
CALSCALE:GREGORIAN
METHOD:PUBLISH
X-WR-CALNAME:Vermont Health Careers
X-ORIGINAL-URL:https://vthealthcareers.org
X-WR-CALDESC:Events for Vermont Health Careers
REFRESH-INTERVAL;VALUE=DURATION:PT1H
X-Robots-Tag:noindex
X-PUBLISHED-TTL:PT1H
BEGIN:VTIMEZONE
TZID:America/Halifax
BEGIN:DAYLIGHT
TZOFFSETFROM:-0400
TZOFFSETTO:-0300
TZNAME:ADT
DTSTART:20210314T060000
END:DAYLIGHT
BEGIN:STANDARD
TZOFFSETFROM:-0300
TZOFFSETTO:-0400
TZNAME:AST
DTSTART:20211107T050000
END:STANDARD
BEGIN:DAYLIGHT
TZOFFSETFROM:-0400
TZOFFSETTO:-0300
TZNAME:ADT
DTSTART:20220313T060000
END:DAYLIGHT
BEGIN:STANDARD
TZOFFSETFROM:-0300
TZOFFSETTO:-0400
TZNAME:AST
DTSTART:20221106T050000
END:STANDARD
BEGIN:DAYLIGHT
TZOFFSETFROM:-0400
TZOFFSETTO:-0300
TZNAME:ADT
DTSTART:20230312T060000
END:DAYLIGHT
BEGIN:STANDARD
TZOFFSETFROM:-0300
TZOFFSETTO:-0400
TZNAME:AST
DTSTART:20231105T050000
END:STANDARD
END:VTIMEZONE
BEGIN:VEVENT
DTSTART;TZID=America/Halifax:20221110T123000
DTEND;TZID=America/Halifax:20221110T150000
DTSTAMP:20260419T111339
CREATED:20221020T121038Z
LAST-MODIFIED:20221020T121038Z
UID:2929-1668083400-1668092400@vthealthcareers.org
SUMMARY:In-Person FAFSA Help
DESCRIPTION:12:30PM – 3:00PM VSAC RESOURCE CENTER \n\n\n\n\n\nDo you need help filing your Free Application for Federal Student Aid (FAFSA)?\nWe have counselors available to assist you. We are also offering “Virtual FAFSA Friday” appointments most Fridays between October 2022 and January 2023 – you will see all available openings on the registration site. \nSign up for a one-on-one meeting.
URL:https://vthealthcareers.org/event/in-person-fafsa-help-2/
ATTACH;FMTTYPE=image/jpeg:https://vthealthcareers.org/wp-content/uploads/2022/10/FAFSA-homepage.jpg
END:VEVENT
END:VCALENDAR