BEGIN:VCALENDAR
VERSION:2.0
PRODID:-//Vermont Health Careers - ECPv6.15.20//NONSGML v1.0//EN
CALSCALE:GREGORIAN
METHOD:PUBLISH
X-ORIGINAL-URL:https://vthealthcareers.org
X-WR-CALDESC:Events for Vermont Health Careers
REFRESH-INTERVAL;VALUE=DURATION:PT1H
X-Robots-Tag:noindex
X-PUBLISHED-TTL:PT1H
BEGIN:VTIMEZONE
TZID:America/Halifax
BEGIN:DAYLIGHT
TZOFFSETFROM:-0400
TZOFFSETTO:-0300
TZNAME:ADT
DTSTART:20210314T060000
END:DAYLIGHT
BEGIN:STANDARD
TZOFFSETFROM:-0300
TZOFFSETTO:-0400
TZNAME:AST
DTSTART:20211107T050000
END:STANDARD
BEGIN:DAYLIGHT
TZOFFSETFROM:-0400
TZOFFSETTO:-0300
TZNAME:ADT
DTSTART:20220313T060000
END:DAYLIGHT
BEGIN:STANDARD
TZOFFSETFROM:-0300
TZOFFSETTO:-0400
TZNAME:AST
DTSTART:20221106T050000
END:STANDARD
BEGIN:DAYLIGHT
TZOFFSETFROM:-0400
TZOFFSETTO:-0300
TZNAME:ADT
DTSTART:20230312T060000
END:DAYLIGHT
BEGIN:STANDARD
TZOFFSETFROM:-0300
TZOFFSETTO:-0400
TZNAME:AST
DTSTART:20231105T050000
END:STANDARD
END:VTIMEZONE
BEGIN:VEVENT
DTSTART;VALUE=DATE:20221209
DTEND;VALUE=DATE:20221210
DTSTAMP:20260419T125840
CREATED:20221206T135300Z
LAST-MODIFIED:20221206T135536Z
UID:3146-1670544000-1670630399@vthealthcareers.org
SUMMARY:Virtual FAFSA Friday Friday 8:30AM - 7:30PM 1-HOUR MICROSOFT TEAMS MEETINGS
DESCRIPTION:Do you need help filing your Free Application for Federal Student Aid (FAFSA)?\nWe have counselors available to assist you. We are also offering “In-Person FAFSA Help” appointments on a few additional select days – you will see all available openings on the registration site. \nSign up for a one-on-one meeting.
URL:https://vthealthcareers.org/event/virtual-fafsa-friday-friday-830am-730pm-1-hour-microsoft-teams-meetings/
END:VEVENT
END:VCALENDAR