BEGIN:VCALENDAR
VERSION:2.0
PRODID:-//Vermont Health Careers - ECPv6.15.20//NONSGML v1.0//EN
CALSCALE:GREGORIAN
METHOD:PUBLISH
X-ORIGINAL-URL:https://vthealthcareers.org
X-WR-CALDESC:Events for Vermont Health Careers
REFRESH-INTERVAL;VALUE=DURATION:PT1H
X-Robots-Tag:noindex
X-PUBLISHED-TTL:PT1H
BEGIN:VTIMEZONE
TZID:America/Halifax
BEGIN:DAYLIGHT
TZOFFSETFROM:-0400
TZOFFSETTO:-0300
TZNAME:ADT
DTSTART:20210314T060000
END:DAYLIGHT
BEGIN:STANDARD
TZOFFSETFROM:-0300
TZOFFSETTO:-0400
TZNAME:AST
DTSTART:20211107T050000
END:STANDARD
BEGIN:DAYLIGHT
TZOFFSETFROM:-0400
TZOFFSETTO:-0300
TZNAME:ADT
DTSTART:20220313T060000
END:DAYLIGHT
BEGIN:STANDARD
TZOFFSETFROM:-0300
TZOFFSETTO:-0400
TZNAME:AST
DTSTART:20221106T050000
END:STANDARD
BEGIN:DAYLIGHT
TZOFFSETFROM:-0400
TZOFFSETTO:-0300
TZNAME:ADT
DTSTART:20230312T060000
END:DAYLIGHT
BEGIN:STANDARD
TZOFFSETFROM:-0300
TZOFFSETTO:-0400
TZNAME:AST
DTSTART:20231105T050000
END:STANDARD
END:VTIMEZONE
BEGIN:VEVENT
DTSTART;TZID=America/Halifax:20221210T170000
DTEND;TZID=America/Halifax:20221210T190000
DTSTAMP:20260419T125755
CREATED:20221206T153705Z
LAST-MODIFIED:20221206T154057Z
UID:3156-1670691600-1670698800@vthealthcareers.org
SUMMARY:VTeen 4-H Science Pathways Café - Insulin Resistance: a Global Health Problem with a Backyard Solution?
DESCRIPTION:Saturday\, December 10\, 2022\, 5:00-7:00 pm\nThe University of Vermont\, Davis Center\, Mansfield Dining Room\nFREE pizza and drinks; Open to all youth in grades 7-12\nRegister@ www.uvm.edu/extension/youth/announcements \nInsulin resistance is a disorder that arises when tissues and organs stop responding to the insulin that is normally synthesized and secreted by your pancreas. As a result\, these tissues and organs stop removing glucose from your blood\, causing high blood sugar and a weakening of your body as a whole. Insulin resistance can lead to type 2 diabetes and Alzheimer’s disease\, and also has a relationship with leukemia and pancreatic cancer. With such a terrible condition that we face\, is it possible that the solution lies in some of Vermont’s agricultural products? Come to this café and learn about current research and engage in some hands-on activities to see if we can discover some new therapeutics together!\nABOUT OUR SPEAKER\nChris Dieni is an Assistant Professor of Chemistry at Saint Michael’s College in Colchester\, Vermont. He is originally from Montreal\, and has taught and researched biochemistry in the Canadian provinces of Quebec\,\nOntario\, and New Brunswick – and the US states of Pennsylvania\, Colorado\, Alabama\, and now Vermont. His expertise is in metabolic biochemistry\, and he searchers for new insulin sensitizers to counter insulin\nresistance. \n 
URL:https://vthealthcareers.org/event/vteen-4-h-science-pathways-cafe-insulin-resistance-a-global-health-problem-with-a-backyard-solution/
LOCATION:University of Vermont\, Davis Center
END:VEVENT
END:VCALENDAR