BEGIN:VCALENDAR
VERSION:2.0
PRODID:-//Vermont Health Careers - ECPv6.15.20//NONSGML v1.0//EN
CALSCALE:GREGORIAN
METHOD:PUBLISH
X-ORIGINAL-URL:https://vthealthcareers.org
X-WR-CALDESC:Events for Vermont Health Careers
REFRESH-INTERVAL;VALUE=DURATION:PT1H
X-Robots-Tag:noindex
X-PUBLISHED-TTL:PT1H
BEGIN:VTIMEZONE
TZID:America/Halifax
BEGIN:DAYLIGHT
TZOFFSETFROM:-0400
TZOFFSETTO:-0300
TZNAME:ADT
DTSTART:20220313T060000
END:DAYLIGHT
BEGIN:STANDARD
TZOFFSETFROM:-0300
TZOFFSETTO:-0400
TZNAME:AST
DTSTART:20221106T050000
END:STANDARD
BEGIN:DAYLIGHT
TZOFFSETFROM:-0400
TZOFFSETTO:-0300
TZNAME:ADT
DTSTART:20230312T060000
END:DAYLIGHT
BEGIN:STANDARD
TZOFFSETFROM:-0300
TZOFFSETTO:-0400
TZNAME:AST
DTSTART:20231105T050000
END:STANDARD
BEGIN:DAYLIGHT
TZOFFSETFROM:-0400
TZOFFSETTO:-0300
TZNAME:ADT
DTSTART:20240310T060000
END:DAYLIGHT
BEGIN:STANDARD
TZOFFSETFROM:-0300
TZOFFSETTO:-0400
TZNAME:AST
DTSTART:20241103T050000
END:STANDARD
END:VTIMEZONE
BEGIN:VEVENT
DTSTART;TZID=America/Halifax:20230118T163000
DTEND;TZID=America/Halifax:20230118T180000
DTSTAMP:20260419T144312
CREATED:20230110T172649Z
LAST-MODIFIED:20230110T172649Z
UID:3565-1674059400-1674064800@vthealthcareers.org
SUMMARY:Professional Development Pop-up - College Planning for Health Careers with VSAC
DESCRIPTION:The AHEC team will be joined by VSAC counselors and medical students from the UVM Larner College of Medicine to share tips and tricks for choosing and applying to college. VSAC will highlight their excellent tools and resources\, and allow time for any and all questions related to college pathway planning.\nJoin us on Wednesday\, January 18\, from 4:30 to 6:00 PM. on Zoom: https://us06web.zoom.us/j/83472959997?pwd=Q1VxcXdGVExnakZyamMzOUEzbTdEdz09\n \n  \n 
URL:https://vthealthcareers.org/event/professional-development-pop-up-college-planning-for-health-careers-with-vsac/
LOCATION:Online
END:VEVENT
END:VCALENDAR