BEGIN:VCALENDAR
VERSION:2.0
PRODID:-//Vermont Health Careers - ECPv6.15.20//NONSGML v1.0//EN
CALSCALE:GREGORIAN
METHOD:PUBLISH
X-WR-CALNAME:Vermont Health Careers
X-ORIGINAL-URL:https://vthealthcareers.org
X-WR-CALDESC:Events for Vermont Health Careers
REFRESH-INTERVAL;VALUE=DURATION:PT1H
X-Robots-Tag:noindex
X-PUBLISHED-TTL:PT1H
BEGIN:VTIMEZONE
TZID:America/Halifax
BEGIN:DAYLIGHT
TZOFFSETFROM:-0400
TZOFFSETTO:-0300
TZNAME:ADT
DTSTART:20220313T060000
END:DAYLIGHT
BEGIN:STANDARD
TZOFFSETFROM:-0300
TZOFFSETTO:-0400
TZNAME:AST
DTSTART:20221106T050000
END:STANDARD
BEGIN:DAYLIGHT
TZOFFSETFROM:-0400
TZOFFSETTO:-0300
TZNAME:ADT
DTSTART:20230312T060000
END:DAYLIGHT
BEGIN:STANDARD
TZOFFSETFROM:-0300
TZOFFSETTO:-0400
TZNAME:AST
DTSTART:20231105T050000
END:STANDARD
BEGIN:DAYLIGHT
TZOFFSETFROM:-0400
TZOFFSETTO:-0300
TZNAME:ADT
DTSTART:20240310T060000
END:DAYLIGHT
BEGIN:STANDARD
TZOFFSETFROM:-0300
TZOFFSETTO:-0400
TZNAME:AST
DTSTART:20241103T050000
END:STANDARD
END:VTIMEZONE
BEGIN:VEVENT
DTSTART;TZID=America/Halifax:20230325T060000
DTEND;TZID=America/Halifax:20230325T083000
DTSTAMP:20260419T213500
CREATED:20230320T115302Z
LAST-MODIFIED:20230320T115302Z
UID:4332-1679724000-1679733000@vthealthcareers.org
SUMMARY:Health H.E.R.O.E.S. Showcase
DESCRIPTION:Health H.E.R.O.E.S. Showcase\nSaturday\, March 25\, 10:00 a.m. – 12:30 p.m.\nOn UVM Campus\nFree Event\, Registration is required\nFor youth aged 8-15\nParents/guardians welcome to attend \nJoin us for hands-on learning about practical tools for your health and wellbeing! Presented by the UVM Teen Health and Wellness Ambassadors. Topics include general nutrition\, mindfulness\, sports nutrition\, self-advocacy\, and more! Healthy Snack provided. \nRegister at https://forms.office.com/r/FkQp30TSAJ \nTo request disability-related accommodations to participate\, please email margaret.coan@uvm.edu\, or call 802-656-7634 by March 3 so that we may assist you.
URL:https://vthealthcareers.org/event/health-h-e-r-o-e-s-showcase/
END:VEVENT
BEGIN:VEVENT
DTSTART;TZID=America/Halifax:20230325T170000
DTEND;TZID=America/Halifax:20230325T190000
DTSTAMP:20260419T213500
CREATED:20221206T154438Z
LAST-MODIFIED:20221206T154438Z
UID:3160-1679763600-1679770800@vthealthcareers.org
SUMMARY:Flow Cytometry Technology: Unraveling the Complexity of Tissues\, Oceans\, Crops…..and Vaccines
DESCRIPTION:Saturday\, March 25\, 2023\, 5:00-7:00 pm\nThe University of Vermont\, Davis Center\, Mansfield Dining Room\nFREE pizza and drinks; Open to all youth in grades 7-12\nRegister@ www.uvm.edu/extension/youth/announcements \nHave you ever wondered how Lake Champlain is being tested for the presence of Cyanobacteria? How do farmers select the best crop of ryegrass with a higher biomass yield? Do you know that to increase the profitability of dairy and beef cattle production\, semen is sexed? How do we assess if vaccines (e.g.\, for Covid) may protect us or not? Scientists use flow cytometry technology to address all these issues and many others! Through dynamic and fun models and games\, we will learn about flow cytometry technology. \nABOUT OUR SPEAKER\nRoxana del Rio-Guerra is a Faculty Scientist of the Dept. of Surgery at the UVM-Larner College of Medicine. She is originally from Mexico where she completed her Master and PhD programs in Immunology. She came to UVM as a postdoctoral associate in the Immunobiology program. Roxana has been leading the Flow Cytometry Facility since 2012
URL:https://vthealthcareers.org/event/flow-cytometry-technology-unraveling-the-complexity-of-tissues-oceans-crops-and-vaccines/
LOCATION:University of Vermont\, Davis Center
END:VEVENT
BEGIN:VEVENT
DTSTART;TZID=America/Halifax:20230406T093000
DTEND;TZID=America/Halifax:20230406T143000
DTSTAMP:20260419T213500
CREATED:20230124T130716Z
LAST-MODIFIED:20230124T130716Z
UID:3812-1680773400-1680791400@vthealthcareers.org
SUMMARY:VSAC Senior Survey Professional Learning at Lake Morey Resort\, Fairlee\, VT
DESCRIPTION:Looking to get more out of your Senior Survey Individual School Report?\nJoin VSAC in person to dig into your results and plan for the future. \nThe VSAC Senior Survey provides “real-time” feedback on the student experience at your school as well as data on the student experience across Vermont. \nParticipants in this workshop will: \n\nBe guided by experienced VSAC Aspirations School Specialists to examine your school-specific 2022 results.\nUse data to identify areas of celebration as well as opportunities to improve the post-high school planning experience for students and families at your school.\nExchange ideas and resources with other schools.\nEnjoy a free lunch from VSAC.\n\nWe strongly encourage teams of 2-4 school representatives to attend. Individual representatives are also welcome. \nREGISTER
URL:https://vthealthcareers.org/event/vsac-senior-survey-professional-learning-at-lake-morey-resort-fairlee-vt/
LOCATION:Lake Morey Resort\, Fairlee\, VT\, Fairlee\, Vermont
END:VEVENT
BEGIN:VEVENT
DTSTART;TZID=America/Halifax:20230415T170000
DTEND;TZID=America/Halifax:20230415T190000
DTSTAMP:20260419T213500
CREATED:20221206T154901Z
LAST-MODIFIED:20221206T154901Z
UID:3162-1681578000-1681585200@vthealthcareers.org
SUMMARY:Joining Neurology\, Muscles and Machines to Enhance Health and Mobility
DESCRIPTION:Saturday\, April 15\, 2023\, 5:00-7:00 pm\nUniversity of Vermont\, Davis Center\, Brennan’s Pub\nFREE pizza and drinks; Open to all youth in grades 7-12\nRegister@ www.uvm.edu/extension/youth/announcements \nBiomedical engineering offers a pathway for combining a desire to help others with an interest in engineering and technology. In this café you’ll learn about the field of biomedical engineering\, with a focus on emerging engineering solutions for neurological problems. Participants will explore three hands-on activities focusing on new treatments that expand patients’ ability to interact with their environment after neurological\ninjury or limb loss. \nABOUT OUR SPEAKER\nNic Fiorentino is a biomechanist with a mechanical engineering background in solid mechanics and dynamics. His areas of expertise include biomechanics\, orthopedics\, and imaging. His long-term research goals are to improve the overall health and well-being of those who have suffered an injury and to reduce the burden from all disabling musculoskeletal conditions. He leads the Musculoskeletal Imaging and Orthopaedic Biomechanics (MIOB) research laboratory at UVM.
URL:https://vthealthcareers.org/event/joining-neurology-muscles-and-machines-to-enhance-health-and-mobility/
LOCATION:University of Vermont\, Davis Center
END:VEVENT
BEGIN:VEVENT
DTSTART;VALUE=DATE:20230506
DTEND;VALUE=DATE:20230508
DTSTAMP:20260419T213500
CREATED:20230502T172053Z
LAST-MODIFIED:20230502T172941Z
UID:4532-1683331200-1683503999@vthealthcareers.org
SUMMARY:SOLO WILDERNESS FIRST AID (WFA) WITH TRAIN NEK
DESCRIPTION:COURSE DESCRIPTION\nWho is This Course For? The WFA course is ideal for outdoor enthusiasts and trip leaders who want a basic level of backcountry first aid training for shorter adventures with family\, friends\, and outdoor groups. This includes hikers\, climbers\, trail crew members\, paddlers\, bikers\, skiers and others who want to feel more independent\, empowered and capable outside. This course meets ACA guidelines. (Those who regularly engage in more challenging or remote outings\, particularly if they are responsible for others in those settings\, are encouraged to take the SOLO Wilderness First Responder course.) \nWhat is Taught? The WFA curriculum focuses on: Prevention\, Response and Assessment\, Initial Life Threats\, Musculoskeletal Injuries including splinting and treating for spinal injuries\, Environmental Emergencies including the layering system and warming patients\, and Soft Tissue Injuries and Infection. \nWhat is Included? Price of the course includes engaging and personalized instruction\, real-life interaction with fun and interesting human beings\, training text and materials\, and SOLO WFA certification fee. WFA certification is good for two years\, and you recertify by taking the course again. The WFA can also be used to recertify the SOLO Wilderness First Responder*. This course meets and exceeds all guidance from the Wilderness Medicine Education Collaborative. Importantly\, by virtue of this being an in-person course in an outdoor classroom\, we’ll be practicing the art of human interaction in a dynamic environment – a critical skillset in being an excellent backcountry caregiver. \nNeed CPR certification? SOLO Basic CPR (which meets current AHA guidelines) is offered as an optional adjunct at the end of Day One for an additional $40 including materials and SOLO Basic CPR certification fee. \nWhat Should I Bring?  WFA students are asked to bring clothing suitable for being active outside (i.e. rolling around on the ground pretending to be injured\, and kneeling next to mock patients) for much of each day\, in any kind of weather. You should also bring additional outdoor layers for warming and treating patients. Lodging and meals are not included. Here is a complete packing list so you know what to expect. Directions to the course will be emailed following registration. \n  \n\n* This course can be used to recertify your SOLO Wilderness First Responder (WFR). Students with WFR certification from organizations having reciprocity with SOLO (including Aerie Backcountry Medicine\, ASHI\, Desert Mountain Medicine\, NOLS/WMI\, WMA\, Wilderness Medicine Outfitters\, Wilderness Medicine Training Center\, Remote Medical International aka Remote Medicine\, and UVM) should choose the SOLO Wilderness First Responder Review instead\, https://trainnek.com/solo-wfr-refresher-through-train-nek/. \n \nFor 2023 dates and times go to https://trainnek.com/solo-wilderness-first-aid-wfa-and-solo-wfr-recert/
URL:https://vthealthcareers.org/event/solo-wilderness-first-aid-wfa-with-train-nek/
END:VEVENT
BEGIN:VEVENT
DTSTART;TZID=America/Halifax:20230512T080000
DTEND;TZID=America/Halifax:20230512T170000
DTSTAMP:20260419T213500
CREATED:20230124T131244Z
LAST-MODIFIED:20230124T131244Z
UID:3815-1683878400-1683910800@vthealthcareers.org
SUMMARY:2023 Transition & Career Planning Conference
DESCRIPTION:Living and Learning in the 802: Vermont Opportunities and Pathways\nSave the date for the 18th Annual Transition and Career Planning Conference hosted by VSAC GEAR UP\, HireAbility Vermont\, Vermont Agency of Education\, and VTSCA – The Vermont School Counselor Association. \nThis year we will focus on Vermont educational opportunities\, including: \n\nflexible pathways\nDual Enrollment\nEarly College\nforgivable loans\nworkforce training support\n\nCheck back for session information and registration details.
URL:https://vthealthcareers.org/event/2023-transition-career-planning-conference/
LOCATION:STOWEFLAKE MOUNTAIN RESORT & SPA\, Stowe\, Vermont
END:VEVENT
BEGIN:VEVENT
DTSTART;TZID=America/Halifax:20230920T083000
DTEND;TZID=America/Halifax:20230920T143000
DTSTAMP:20260419T213500
CREATED:20230919T120305Z
LAST-MODIFIED:20230919T120305Z
UID:6554-1695198600-1695220200@vthealthcareers.org
SUMMARY:Virtual FSA ID Help
DESCRIPTION:Do you need help creating or resetting your FSA ID (the username and password for the FAFSA)?\nWe have counselors available to assist you. We are also offering in-person FSA ID appointments between September 2023 and January 2024 – you will see all available openings on the registration site.\nSign up for a one-on-one meeting.
URL:https://vthealthcareers.org/event/virtual-fsa-id-help/
LOCATION:Online
END:VEVENT
BEGIN:VEVENT
DTSTART;TZID=America/Halifax:20230920T090000
DTEND;TZID=America/Halifax:20230920T150000
DTSTAMP:20260419T213500
CREATED:20230919T120453Z
LAST-MODIFIED:20230919T120453Z
UID:6556-1695200400-1695222000@vthealthcareers.org
SUMMARY:In-Person FSA ID Help
DESCRIPTION:Do you need help creating or resetting your FSA ID (the username and password for the FAFSA)?\nWe have counselors available to assist you. We are also offering virtual FSA ID appointments between September 2023 and January 2024 – you will see all available openings on the registration site. \nSign up for a one-on-one meeting.
URL:https://vthealthcareers.org/event/in-person-fsa-id-help/
END:VEVENT
BEGIN:VEVENT
DTSTART;TZID=America/Halifax:20230925T083000
DTEND;TZID=America/Halifax:20230925T143000
DTSTAMP:20260419T213500
CREATED:20230919T123754Z
LAST-MODIFIED:20230919T123754Z
UID:6558-1695630600-1695652200@vthealthcareers.org
SUMMARY:Virtual FSA ID Help
DESCRIPTION:Do you need help creating or resetting your FSA ID (the username and password for the FAFSA)?\nWe have counselors available to assist you. We are also offering in-person FSA ID appointments between September 2023 and January 2024 – you will see all available openings on the registration site. \nSign up for a one-on-one meeting.
URL:https://vthealthcareers.org/event/virtual-fsa-id-help-2/
LOCATION:Online
END:VEVENT
BEGIN:VEVENT
DTSTART;TZID=America/Halifax:20231002T083000
DTEND;TZID=America/Halifax:20231002T173000
DTSTAMP:20260419T213500
CREATED:20230919T123935Z
LAST-MODIFIED:20230919T123935Z
UID:6560-1696235400-1696267800@vthealthcareers.org
SUMMARY:Virtual FSA ID Help
DESCRIPTION:Do you need help creating or resetting your FSA ID (the username and password for the FAFSA)?\nWe have counselors available to assist you. We are also offering in-person FSA ID appointments between September 2023 and January 2024 – you will see all available openings on the registration site. \nSign up for a one-on-one meeting.
URL:https://vthealthcareers.org/event/virtual-fsa-id-help-3/
LOCATION:Online
END:VEVENT
BEGIN:VEVENT
DTSTART;TZID=America/Halifax:20231004T083000
DTEND;TZID=America/Halifax:20231004T143000
DTSTAMP:20260419T213500
CREATED:20230919T124029Z
LAST-MODIFIED:20230919T124029Z
UID:6562-1696408200-1696429800@vthealthcareers.org
SUMMARY:Virtual FSA ID Help
DESCRIPTION:Do you need help creating or resetting your FSA ID (the username and password for the FAFSA)?\nWe have counselors available to assist you. We are also offering in-person FSA ID appointments between September 2023 and January 2024 – you will see all available openings on the registration site. \nSign up for a one-on-one meeting.
URL:https://vthealthcareers.org/event/virtual-fsa-id-help-4/
LOCATION:Online
END:VEVENT
BEGIN:VEVENT
DTSTART;TZID=America/Halifax:20231004T090000
DTEND;TZID=America/Halifax:20231004T150000
DTSTAMP:20260419T213500
CREATED:20230919T124158Z
LAST-MODIFIED:20230919T124158Z
UID:6564-1696410000-1696431600@vthealthcareers.org
SUMMARY:In-Person FSA ID Help
DESCRIPTION:Do you need help creating or resetting your FSA ID (the username and password for the FAFSA)?\nWe have counselors available to assist you. We are also offering virtual FSA ID appointments between September 2023 and January 2024 – you will see all available openings on the registration site. \nSign up for a one-on-one meeting.
URL:https://vthealthcareers.org/event/in-person-fsa-id-help-2/
END:VEVENT
END:VCALENDAR