BEGIN:VCALENDAR
VERSION:2.0
PRODID:-//Vermont Health Careers - ECPv6.15.20//NONSGML v1.0//EN
CALSCALE:GREGORIAN
METHOD:PUBLISH
X-WR-CALNAME:Vermont Health Careers
X-ORIGINAL-URL:https://vthealthcareers.org
X-WR-CALDESC:Events for Vermont Health Careers
REFRESH-INTERVAL;VALUE=DURATION:PT1H
X-Robots-Tag:noindex
X-PUBLISHED-TTL:PT1H
BEGIN:VTIMEZONE
TZID:America/Halifax
BEGIN:DAYLIGHT
TZOFFSETFROM:-0400
TZOFFSETTO:-0300
TZNAME:ADT
DTSTART:20210314T060000
END:DAYLIGHT
BEGIN:STANDARD
TZOFFSETFROM:-0300
TZOFFSETTO:-0400
TZNAME:AST
DTSTART:20211107T050000
END:STANDARD
BEGIN:DAYLIGHT
TZOFFSETFROM:-0400
TZOFFSETTO:-0300
TZNAME:ADT
DTSTART:20220313T060000
END:DAYLIGHT
BEGIN:STANDARD
TZOFFSETFROM:-0300
TZOFFSETTO:-0400
TZNAME:AST
DTSTART:20221106T050000
END:STANDARD
BEGIN:DAYLIGHT
TZOFFSETFROM:-0400
TZOFFSETTO:-0300
TZNAME:ADT
DTSTART:20230312T060000
END:DAYLIGHT
BEGIN:STANDARD
TZOFFSETFROM:-0300
TZOFFSETTO:-0400
TZNAME:AST
DTSTART:20231105T050000
END:STANDARD
END:VTIMEZONE
BEGIN:VEVENT
DTSTART;TZID=America/Halifax:20221021T083000
DTEND;TZID=America/Halifax:20221021T193000
DTSTAMP:20260420T044449
CREATED:20221020T115030Z
LAST-MODIFIED:20221020T115058Z
UID:2904-1666341000-1666380600@vthealthcareers.org
SUMMARY:Virtual FAFSA Friday
DESCRIPTION:Do you need help filing your Free Application for Federal Student Aid (FAFSA)?\nWe have counselors available to assist you. We are also offering “In-Person FAFSA Help” appointments on a few additional select days – you will see all available openings on the registration site. \nSign up for a one-on-one meeting.
URL:https://vthealthcareers.org/event/virtual-fafsa-friday/
LOCATION:Online
END:VEVENT
BEGIN:VEVENT
DTSTART;TZID=America/Halifax:20221020T190000
DTEND;TZID=America/Halifax:20221020T190000
DTSTAMP:20260420T044449
CREATED:20221012T160042Z
LAST-MODIFIED:20221020T141429Z
UID:2521-1666292400-1666292400@vthealthcareers.org
SUMMARY:VTReach's October Teleconference is on Emergency Medicine!
DESCRIPTION:October 20th Session: This month we are spotlighting Emergency Medicine featuring Richard Bounds\, MD\, and Katherine Dolbec\, MD. Both are Emergency Medicine physicians who will be joining us to discuss their careers at UVM Medical Center\, a Level 1 trauma hospital! \n Registration:Link: https://na.eventscloud.com/ereg/index.php?eventid=613888& \nYouTube: If you missed one of our previous sessions on integrating medicine and research\, anesthesiology\, the journey to and through medical school & more\, you are able to watch all of our sessions on our YouTube channel.\nLink:  https://www.youtube.com/channel/UCjIgAZhUKlb5d-zsl0zfscA \nNovember 17th Session: Our November session will be highlighting Oncology & Otolarngyology so join us next month for another great session!\nWe are excited to see you Thursday from 7-8:15 pm EST!\nStay safe\, healthy & inspired.\nVT REACH Team \nVirtual Teleconference: Reach\, Explore\, & Aspire to Careers in Healthcare
URL:https://vthealthcareers.org/event/stay-tuned-for-the-title-of-vtreachs-october-teleconference/
ATTACH;FMTTYPE=image/jpeg:https://vthealthcareers.org/wp-content/uploads/2022/10/Capture.jpg
END:VEVENT
BEGIN:VEVENT
DTSTART;TZID=America/Halifax:20221001T040000
DTEND;TZID=America/Halifax:20221001T130000
DTSTAMP:20260420T044449
CREATED:20221001T035217Z
LAST-MODIFIED:20221001T035217Z
UID:1653-1664596800-1664629200@vthealthcareers.org
SUMMARY:October is Health Care Careers Awareness Month
DESCRIPTION:
URL:https://vthealthcareers.org/event/october-is-health-care-careers-awareness-month/
END:VEVENT
END:VCALENDAR